BEGIN:VCALENDAR
VERSION:2.0
PRODID:-//eventon.com NONSGML v1.0//EN
CALSCALE:GREGORIAN
METHOD:PUBLISH
BEGIN:VEVENT
UID:69e58fffe0f93
DTSTAMP:20260420T023127Z
DTSTART:20250801
DTEND:20250802
LOCATION:Galler -UK Cwmythig Hill\,  Rhayader\,  Powys LD6 5NS\,  Wales.
SUMMARY:Round 5: GP of Wales FIM EnduroGP World Championship 2025!
DESCRIPTION:The fifth round of the 2025 Paulo Duarte FIM EnduroGP World Cha
 mpionship will be held in Wales from August 1st to 3rd. The GP of Wales wil
 l bring enduro enthusiasts together in the lush and mountainous terrains of
  Britain. The characteristic rainy and misty weather of Wales will add a[..
 ]\nhttps://endurochannel.com/events/round-5-gp-of-wales-fim-endurogp-world-
 championship-2025/
URL:https://endurochannel.com/events/round-5-gp-of-wales-fim-endurogp-world-championship-2025/
END:VEVENT
END:VCALENDAR